BEGIN:VCALENDAR
VERSION:2.0
PRODID:-//Larry Lee - ECPv6.15.13.1//NONSGML v1.0//EN
CALSCALE:GREGORIAN
METHOD:PUBLISH
X-WR-CALNAME:Larry Lee
X-ORIGINAL-URL:https://bitdlive.com
X-WR-CALDESC:Events for Larry Lee
REFRESH-INTERVAL;VALUE=DURATION:PT1H
X-Robots-Tag:noindex
X-PUBLISHED-TTL:PT1H
BEGIN:VTIMEZONE
TZID:America/Detroit
BEGIN:DAYLIGHT
TZOFFSETFROM:-0500
TZOFFSETTO:-0400
TZNAME:EDT
DTSTART:20240310T070000
END:DAYLIGHT
BEGIN:STANDARD
TZOFFSETFROM:-0400
TZOFFSETTO:-0500
TZNAME:EST
DTSTART:20241103T060000
END:STANDARD
BEGIN:DAYLIGHT
TZOFFSETFROM:-0500
TZOFFSETTO:-0400
TZNAME:EDT
DTSTART:20250309T070000
END:DAYLIGHT
BEGIN:STANDARD
TZOFFSETFROM:-0400
TZOFFSETTO:-0500
TZNAME:EST
DTSTART:20251102T060000
END:STANDARD
BEGIN:DAYLIGHT
TZOFFSETFROM:-0500
TZOFFSETTO:-0400
TZNAME:EDT
DTSTART:20260308T070000
END:DAYLIGHT
BEGIN:STANDARD
TZOFFSETFROM:-0400
TZOFFSETTO:-0500
TZNAME:EST
DTSTART:20261101T060000
END:STANDARD
END:VTIMEZONE
BEGIN:VEVENT
DTSTART;TZID=America/Detroit:20251115T190000
DTEND;TZID=America/Detroit:20251115T230000
DTSTAMP:20260422T103045
CREATED:20251111T140020Z
LAST-MODIFIED:20251111T140020Z
UID:1908-1763233200-1763247600@bitdlive.com
SUMMARY:Motown Celebration - St. Andre' Bessette Catholic Church in Ecorse Michigan
DESCRIPTION:🎶 Motown Night with Larry Lee & Back in the Day!\n📅 Date: November 15\, 2025🕖 Time: 7:00 PM – 11:00 PM EST📍 Location: See Event Details Here \nGet ready for an unforgettable evening of soul\, rhythm\, and classic Motown hits performed by Larry Lee & Back in the Day — one of the region’s most dynamic and beloved bands! \nLarry Lee & Back in the Day bring the golden era of Motown to life with their high-energy performances\, powerful vocals\, and a tight horn section that keeps the dance floor moving all night long. From timeless favorites by The Temptations\, Stevie Wonder\, and Marvin Gaye to crowd-pleasing classics from Earth\, Wind & Fire and more\, their music will take you on a nostalgic journey “back in the day.” \n🎟 Tickets: $20Tickets can be purchased by contacting Rebecca Krzemien\, after each Mass\, or at the Parish Office. \n🍗 Food & Drinks:Enjoy wings and fries from our concession stand\, along with beer and wine for sale. Don’t forget to take part in our basket raffle for a chance to win fun prizes! \n✨ Come for the music — stay for the memories.Join us for a walk down memory lane\, great company\, and lots of dancing! \n👉 Event Link: Facebook Event Page👉 Contact: Rebecca Krzemien
URL:https://bitdlive.com/event/motown-celebration-st-andre-bessette-catholic-church-in-ecorse-michigan/
LOCATION:St. Andre’ Bessette Catholic Church in Ecorse Michigan\, 4250 W. Jefferson Ecorse MI 48229\, Michigan\, MI\, 48229\, United States
CATEGORIES:Live Music Show
ATTACH;FMTTYPE=image/jpeg:https://bitdlive.com/wp-content/uploads/2025/11/Larry-Nov-15.jpg
END:VEVENT
END:VCALENDAR