BEGIN:VCALENDAR
VERSION:2.0
PRODID:-//Larry Lee - ECPv6.15.13.1//NONSGML v1.0//EN
CALSCALE:GREGORIAN
METHOD:PUBLISH
X-WR-CALNAME:Larry Lee
X-ORIGINAL-URL:https://bitdlive.com
X-WR-CALDESC:Events for Larry Lee
REFRESH-INTERVAL;VALUE=DURATION:PT1H
X-Robots-Tag:noindex
X-PUBLISHED-TTL:PT1H
BEGIN:VTIMEZONE
TZID:UTC
BEGIN:STANDARD
TZOFFSETFROM:+0000
TZOFFSETTO:+0000
TZNAME:UTC
DTSTART:20250101T000000
END:STANDARD
END:VTIMEZONE
BEGIN:VEVENT
DTSTART;TZID=UTC:20260604T190000
DTEND;TZID=UTC:20260604T230000
DTSTAMP:20260420T160240
CREATED:20260420T100001Z
LAST-MODIFIED:20260420T100445Z
UID:2023-1780599600-1780614000@bitdlive.com
SUMMARY:Performing For Detroit Lions Staff
DESCRIPTION:Get ready for an unforgettable evening of music\, energy\, and celebration as Larry Lee & Back In The Day Band takes the stage for an exclusive performance for the Detroit Lions employees. \nKnown for their electrifying live shows and signature blend of Motown\, R&B\, funk\, and soul\, the band brings decades of musical excellence and crowd engagement to every performance. With a powerful stage presence and timeless sound\, Larry Lee & the band have become one of Detroit’s premier live entertainment acts—delivering performances that keep audiences dancing all night long. \nThis special event celebrates the spirit\, teamwork\, and excellence of the Detroit Lions organization\, brought to life through live music that reflects the rich musical heritage of Detroit. \nFrom classic hits to high-energy grooves\, this performance promises an incredible atmosphere filled with rhythm\, nostalgia\, and non-stop entertainment. \n\n✨ Event Highlights\n\nLive performance by Larry Lee & Back In The Day Band\nHigh-energy Motown\, R&B\, funk\, and soul music\nExclusive entertainment experience for Detroit Lions staff\nA celebration of Detroit’s music and sports legacy
URL:https://bitdlive.com/event/larry-lee-back-in-the-day-band-live-with-detroit-lions-staff/
CATEGORIES:Private Music Event
ATTACH;FMTTYPE=image/png:https://bitdlive.com/wp-content/uploads/2026/04/DL-PARTY-1.png
END:VEVENT
END:VCALENDAR