BEGIN:VCALENDAR
VERSION:2.0
PRODID:-//Larry Lee - ECPv6.15.13.1//NONSGML v1.0//EN
CALSCALE:GREGORIAN
METHOD:PUBLISH
X-WR-CALNAME:Larry Lee
X-ORIGINAL-URL:https://bitdlive.com
X-WR-CALDESC:Events for Larry Lee
REFRESH-INTERVAL;VALUE=DURATION:PT1H
X-Robots-Tag:noindex
X-PUBLISHED-TTL:PT1H
BEGIN:VTIMEZONE
TZID:UTC
BEGIN:STANDARD
TZOFFSETFROM:+0000
TZOFFSETTO:+0000
TZNAME:UTC
DTSTART:20240101T000000
END:STANDARD
END:VTIMEZONE
BEGIN:VEVENT
DTSTART;TZID=UTC:20250808T190000
DTEND;TZID=UTC:20250808T213000
DTSTAMP:20260420T023320
CREATED:20250701T093907Z
LAST-MODIFIED:20250802T203525Z
UID:1501-1754679600-1754688600@bitdlive.com
SUMMARY:Live at Romulus Historical Park
DESCRIPTION:🎶 Back in the Day Band Live at Romulus Historical Park\nDate: Friday\, August 8\, 2025Time: 7:00 – 9:30 p.m.Location: Romulus Historical Park\, 11120 Hunt Street\, Romulus\, MI 48174Admission: FREE! Concert will be held rain or shine (except in the case of lightning) \nGet ready for an unforgettable evening of Funk\, R&B\, and classic Motown as Larry Lee & Back in the Day Band take the stage in Downtown Romulus! Known for their dynamic energy\, incredible musicianship\, and crowd-pleasing throwbacks\, this powerhouse group will have you dancing all night long under the summer sky. \nBring your lawn chairs\, friends\, and family for this special night of soul-stirring grooves and nostalgic hits as part of the Sounds in the R-District Free Music Series. \n📞 For questions\, contact the Romulus DDA at (734) 955-4531 (Mon–Fri\, 8 a.m. to 4 p.m.)
URL:https://bitdlive.com/event/romulus-sounds-in-r-district/
CATEGORIES:Live Music Show,Private Music Event
ATTACH;FMTTYPE=image/jpeg:https://bitdlive.com/wp-content/uploads/2025/07/Aug-08-event.jpg
END:VEVENT
BEGIN:VEVENT
DTSTART;TZID=UTC:20250801T190000
DTEND;TZID=UTC:20250801T213000
DTSTAMP:20260420T023320
CREATED:20250701T093657Z
LAST-MODIFIED:20250701T094422Z
UID:1499-1754074800-1754083800@bitdlive.com
SUMMARY:Plymouth Music in the air
DESCRIPTION:Kellogg Park\n7:00-9:30pm (bring lawn chairs park fills up early)
URL:https://bitdlive.com/event/plymouth-music-in-the-air/
CATEGORIES:band
END:VEVENT
BEGIN:VEVENT
DTSTART;TZID=UTC:20250731T170000
DTEND;TZID=UTC:20250731T193000
DTSTAMP:20260420T023320
CREATED:20250702T171825Z
LAST-MODIFIED:20250716T131857Z
UID:1548-1753981200-1753990200@bitdlive.com
SUMMARY:Pro Football Hall of Fame Game Lions vs Chargers (Pre Game)
DESCRIPTION:free to the public Canton\, Ohio. For more information \, see the websiet – Register Here – https://www.profootballhof.com/enshrinement/ \n 
URL:https://bitdlive.com/event/pro-football-hall-of-fame-game-lions-vs-chargers-pre-game/
CATEGORIES:Live Music Show
ATTACH;FMTTYPE=image/jpeg:https://bitdlive.com/wp-content/uploads/2025/07/July-31st.jpg
END:VEVENT
BEGIN:VEVENT
DTSTART;TZID=UTC:20250719T214500
DTEND;TZID=UTC:20250719T230000
DTSTAMP:20260420T023320
CREATED:20250701T093431Z
LAST-MODIFIED:20250716T131154Z
UID:1496-1752961500-1752966000@bitdlive.com
SUMMARY:African World festival
DESCRIPTION:Hart Plaza downtown Detroit\n9:45-11pm Main Stage
URL:https://bitdlive.com/event/african-word-festival/
CATEGORIES:band
END:VEVENT
BEGIN:VEVENT
DTSTART;TZID=UTC:20250719T150000
DTEND;TZID=UTC:20250719T170000
DTSTAMP:20260420T023320
CREATED:20250716T132537Z
LAST-MODIFIED:20250716T132537Z
UID:1602-1752937200-1752944400@bitdlive.com
SUMMARY:Royal Oak Jazz Soul Festival
DESCRIPTION:
URL:https://bitdlive.com/event/royal-oak-jazz-soul-festival/
ATTACH;FMTTYPE=image/jpeg:https://bitdlive.com/wp-content/uploads/2025/07/July-19.jpg
END:VEVENT
BEGIN:VEVENT
DTSTART;TZID=UTC:20250718T080000
DTEND;TZID=UTC:20250718T170000
DTSTAMP:20260420T023320
CREATED:20250716T131029Z
LAST-MODIFIED:20250716T131946Z
UID:1593-1752825600-1752858000@bitdlive.com
SUMMARY:Grand Testimonial Kick Off
DESCRIPTION:
URL:https://bitdlive.com/event/1593/
CATEGORIES:Concert
ATTACH;FMTTYPE=image/jpeg:https://bitdlive.com/wp-content/uploads/2025/07/July-18-new.jpg
END:VEVENT
BEGIN:VEVENT
DTSTART;VALUE=DATE:20250628
DTEND;VALUE=DATE:20250629
DTSTAMP:20260420T023320
CREATED:20250622T184336Z
LAST-MODIFIED:20250622T184336Z
UID:1285-1751068800-1751155199@bitdlive.com
SUMMARY:Detroit Memorial Park Association
DESCRIPTION:Auburn HillsMarriott Pontiac\, Mi 7-12pm
URL:https://bitdlive.com/event/detroit-memorial-park-association/
CATEGORIES:band
END:VEVENT
BEGIN:VEVENT
DTSTART;TZID=UTC:20250619T190000
DTEND;TZID=UTC:20250619T203000
DTSTAMP:20260420T023320
CREATED:20250702T172544Z
LAST-MODIFIED:20250702T172544Z
UID:1553-1750359600-1750365000@bitdlive.com
SUMMARY:City of Oak Park Juneteenth Celebration
DESCRIPTION:Oak Park High School 7-8:30pm
URL:https://bitdlive.com/event/city-of-oak-park-juneteenth-celebration/
CATEGORIES:Private Music Event
END:VEVENT
BEGIN:VEVENT
DTSTART;TZID=UTC:20250618T060000
DTEND;TZID=UTC:20250618T170000
DTSTAMP:20260420T023320
CREATED:20250623T144805Z
LAST-MODIFIED:20250702T172035Z
UID:1333-1750226400-1750266000@bitdlive.com
SUMMARY:Grand Testimonial Kick-Off
DESCRIPTION:Auburn Hills Marriott Doors open at 6pm contact Kendra Perry @3132155087
URL:https://bitdlive.com/event/grand-testimonial-kick-off/
CATEGORIES:band
ATTACH;FMTTYPE=image/jpeg:https://bitdlive.com/wp-content/uploads/2025/06/unnamed.jpg
END:VEVENT
BEGIN:VEVENT
DTSTART;TZID=UTC:20250616T200000
DTEND;TZID=UTC:20250616T220000
DTSTAMP:20260420T023320
CREATED:20250622T184228Z
LAST-MODIFIED:20250702T172145Z
UID:1282-1750104000-1750111200@bitdlive.com
SUMMARY:Land and Sea RV Weekend
DESCRIPTION:Cardinal Center Morengo\, Ohio 43334 8-10pm
URL:https://bitdlive.com/event/land-and-sea-rv-weekend/
CATEGORIES:band
END:VEVENT
BEGIN:VEVENT
DTSTART;TZID=UTC:20250607T150000
DTEND;TZID=UTC:20250607T160000
DTSTAMP:20260420T023320
CREATED:20250702T172301Z
LAST-MODIFIED:20250702T172301Z
UID:1551-1749308400-1749312000@bitdlive.com
SUMMARY:Sounds of Summer c/o Detroit symphony Orchestra
DESCRIPTION:Chandler Park 12831 Frankfort St Detroit\, MI 48213 3-4PM \nChandler Park 12831 Frankfort St Detroit\, MI 48213 3-4PM
URL:https://bitdlive.com/event/sounds-of-summer-c-o-detroit-symphony-orchestra/
END:VEVENT
END:VCALENDAR