BEGIN:VCALENDAR
VERSION:2.0
PRODID:-//Larry Lee - ECPv6.15.13.1//NONSGML v1.0//EN
CALSCALE:GREGORIAN
METHOD:PUBLISH
X-ORIGINAL-URL:https://bitdlive.com
X-WR-CALDESC:Events for Larry Lee
REFRESH-INTERVAL;VALUE=DURATION:PT1H
X-Robots-Tag:noindex
X-PUBLISHED-TTL:PT1H
BEGIN:VTIMEZONE
TZID:UTC
BEGIN:STANDARD
TZOFFSETFROM:+0000
TZOFFSETTO:+0000
TZNAME:UTC
DTSTART:20250101T000000
END:STANDARD
END:VTIMEZONE
BEGIN:VTIMEZONE
TZID:America/Detroit
BEGIN:DAYLIGHT
TZOFFSETFROM:-0500
TZOFFSETTO:-0400
TZNAME:EDT
DTSTART:20250309T070000
END:DAYLIGHT
BEGIN:STANDARD
TZOFFSETFROM:-0400
TZOFFSETTO:-0500
TZNAME:EST
DTSTART:20251102T060000
END:STANDARD
BEGIN:DAYLIGHT
TZOFFSETFROM:-0500
TZOFFSETTO:-0400
TZNAME:EDT
DTSTART:20260308T070000
END:DAYLIGHT
BEGIN:STANDARD
TZOFFSETFROM:-0400
TZOFFSETTO:-0500
TZNAME:EST
DTSTART:20261101T060000
END:STANDARD
BEGIN:DAYLIGHT
TZOFFSETFROM:-0500
TZOFFSETTO:-0400
TZNAME:EDT
DTSTART:20270314T070000
END:DAYLIGHT
BEGIN:STANDARD
TZOFFSETFROM:-0400
TZOFFSETTO:-0500
TZNAME:EST
DTSTART:20271107T060000
END:STANDARD
END:VTIMEZONE
BEGIN:VEVENT
DTSTART;TZID=UTC:20260613T110000
DTEND;TZID=UTC:20260613T140000
DTSTAMP:20260422T090145
CREATED:20260420T093626Z
LAST-MODIFIED:20260420T093626Z
UID:2018-1781348400-1781359200@bitdlive.com
SUMMARY:Wayne County Senior Fun Fest
DESCRIPTION:Join us for a vibrant and joyful day at the Wayne County Senior Fun Fest—a special celebration dedicated to honoring and bringing together seniors across the community. This exciting event promises a fun-filled afternoon of entertainment\, games\, and meaningful connections in a welcoming outdoor setting. \nTaking place on Saturday\, June 13th from 11:00 a.m. to 2:00 p.m. (Rain or Shine)\, the event will be hosted at the scenic Nankin Mills Recreation Area in Westland\, Michigan. \nDesigned exclusively for Wayne County residents aged 60 and above\, this event offers a variety of engaging activities including bingo with gift cards and prizes\, raffle drawings\, interactive games\, and access to valuable health and community resource tents. \nGuests will also enjoy live musical entertainment by Larry Lee & Back in the Day Band\, bringing energy\, nostalgia\, and classic hits to the celebration. A complimentary lunch will be served starting at 11:30 a.m.\, making it the perfect opportunity to relax\, socialize\, and enjoy the day. \nPlease note: This event is intended for seniors only—no children allowed\, and seating will be provided for all attendees. \nWhether you’re coming for the music\, the games\, or simply the great company\, the Wayne County Senior Fun Fest is a wonderful way to connect\, celebrate\, and create lasting memories. \nFor more information or ticket inquiries\, please contact: \n\nDetroit\, Hamtramck\, Highland Park\, Harper Woods & Grosse Pointe communities: (313) 224-5924\nAll other Wayne County municipalities: (734) 326-4469\n\nFor More Information Visit: www.WayneCountyMI.gov
URL:https://bitdlive.com/event/wayne-county-senior-fun-fest/
LOCATION:Nankin Mills Recreation Area\, 33275 Hines Dr. Westland\,\, MI (off Ann Arbor Trail)\, MI\, 48185\, United States
CATEGORIES:Private Music Event
ATTACH;FMTTYPE=image/png:https://bitdlive.com/wp-content/uploads/2026/04/Senior-Fun-Fest-1-2026-1.png
END:VEVENT
BEGIN:VEVENT
DTSTART;TZID=America/Detroit:20260620T100000
DTEND;TZID=America/Detroit:20260620T170000
DTSTAMP:20260422T090145
CREATED:20260413T093712Z
LAST-MODIFIED:20260413T093712Z
UID:1989-1781949600-1781974800@bitdlive.com
SUMMARY:Juneteenth Celebration – Battle Creek
DESCRIPTION:📅 Celebrate Freedom\, Culture & Community \nJoin us for a powerful and vibrant Juneteenth Celebration in Battle Creek\, honoring the historic day of freedom and the rich heritage of African American culture. This annual event brings the community together for a meaningful and joyful experience filled with entertainment\, education\, and unity. \n🌟 About the Event \nJuneteenth marks the emancipation of enslaved African Americans in the United States and stands as a symbol of resilience\, progress\, and hope. This celebration in Battle Creek is more than just an event—it’s a tribute to history\, culture\, and the ongoing journey toward equality. \nExperience a day filled with inspiration\, connection\, and celebration as we honor the past while embracing the future. \n🎶 Live Entertainment & Performances \nEnjoy an exciting lineup of live performances featuring music\, dance\, and spoken word that reflect the spirit and creativity of the culture. From soulful sounds to high-energy acts\, the stage will be alive with talent throughout the event. \n🛍️ Vendors\, Food & Community \nExplore a variety of local vendors\, small businesses\, and community organizations offering: \n\nDelicious food and cultural cuisine\nUnique products and handmade goods\nCommunity resources and engagement opportunities\n\nSupport local entrepreneurs while enjoying incredible flavors and experiences. \n👨‍👩‍👧‍👦 Family-Friendly Experience \nThis is a welcoming\, all-ages event designed for families\, friends\, and the entire community. With activities for children and engaging experiences for adults\, everyone can be part of this meaningful celebration. \n✨ Why Attend \n✔ Celebrate culture\, history\, and freedom✔ Enjoy live music\, performances & entertainment✔ Support local businesses and community initiatives✔ Connect with people in a positive\, uplifting environment✔ Be part of a powerful and inspiring experience \n🎟️ Join the Celebration \nCome together with the community to honor Juneteenth in a way that is both meaningful and memorable. \n👉 For more information\, event updates\, and full details\, visit:https://juneteenthbattlecreek.com/\nStay informed\, get involved\, and be part of this incredible celebration!
URL:https://bitdlive.com/event/juneteenth-celebration-battle-creek/
LOCATION:Claude Evans Park\, 320 N Washington Ave\, Battle Creek\, MI\, 49037\, United States
CATEGORIES:Live Music Show
ATTACH;FMTTYPE=image/jpeg:https://bitdlive.com/wp-content/uploads/2026/04/2026-Junteenth-Family-Day-Weekend-6-19-6-20-scaled-1.jpg
END:VEVENT
BEGIN:VEVENT
DTSTART;TZID=America/Detroit:20260626T170000
DTEND;TZID=America/Detroit:20260626T220000
DTSTAMP:20260422T090145
CREATED:20260413T092209Z
LAST-MODIFIED:20260413T093807Z
UID:1982-1782493200-1782511200@bitdlive.com
SUMMARY:Party at the Pavilion Concert Series
DESCRIPTION:Get ready\, Lima! An unforgettable evening of live music\, energy\, and timeless hits is coming your way. \nJoin us for a spectacular night with Larry Lee & Back In The Day Band\, one of Detroit’s premier live-performance groups known for their electrifying stage presence and unmatched musicianship. This is more than just a concert—it’s a full live entertainment experience that brings generations together through music. \n🎤 Live Performance Experience \nStarting at 6 PM\, Larry Lee & Back In The Day Band will take the stage with a powerful mix of: \n\nMotown classics\nR&B favorites\nFunk grooves\nSoulful hits\n\nWith a reputation for delivering high-energy performances at major events—including NFL pre-game and post-game parties—the band guarantees a show that will have you dancing\, singing\, and fully immersed in the vibe. \n🎉 What to Expect \n\n🎶 Live outdoor concert in a vibrant amphitheater setting\n💃 High-energy music and crowd interaction\n👨‍👩‍👧‍👦 Family-friendly atmosphere\n🌆 A perfect summer evening under the open sky\n\n👨‍👩‍👧‍👦 Family-Friendly Event \nThis is an all-ages event\, so bring your friends and family along! \n👉 Children 13 & under are FREE when accompanied by a parent or guardian. \n🎟️ Important Event Information\n\nDoors Open: 5:00 PM\nShow Begins: 6:00 PM\nThis is a rain or shine event\nAll ticket sales are final (no refunds or transfers)\n\n🚀 Reserve Your Spot\nDon’t miss your chance to be part of one of the most exciting live music events of the summer. \n🔥 Secure your tickets now and get ready for a night of unforgettable music and great vibes! \nBook Now – https://app.fairs.com/e/7a0b53e7d6bb4952
URL:https://bitdlive.com/event/party-at-the-pavilion-concert-series/
LOCATION:Pangle Pavilion at the Greater Lima Region Park & Amphitheater\, 241 S Main St\,\, Lima\, MI\, 45801\, United States
CATEGORIES:Live Music Show
ATTACH;FMTTYPE=image/png:https://bitdlive.com/wp-content/uploads/2026/04/larry-Lee-evenrs.png
END:VEVENT
END:VCALENDAR