BEGIN:VCALENDAR
VERSION:2.0
PRODID:-//Larry Lee - ECPv6.15.13.1//NONSGML v1.0//EN
CALSCALE:GREGORIAN
METHOD:PUBLISH
X-WR-CALNAME:Larry Lee
X-ORIGINAL-URL:https://bitdlive.com
X-WR-CALDESC:Events for Larry Lee
REFRESH-INTERVAL;VALUE=DURATION:PT1H
X-Robots-Tag:noindex
X-PUBLISHED-TTL:PT1H
BEGIN:VTIMEZONE
TZID:America/Detroit
BEGIN:DAYLIGHT
TZOFFSETFROM:-0500
TZOFFSETTO:-0400
TZNAME:EDT
DTSTART:20240310T070000
END:DAYLIGHT
BEGIN:STANDARD
TZOFFSETFROM:-0400
TZOFFSETTO:-0500
TZNAME:EST
DTSTART:20241103T060000
END:STANDARD
BEGIN:DAYLIGHT
TZOFFSETFROM:-0500
TZOFFSETTO:-0400
TZNAME:EDT
DTSTART:20250309T070000
END:DAYLIGHT
BEGIN:STANDARD
TZOFFSETFROM:-0400
TZOFFSETTO:-0500
TZNAME:EST
DTSTART:20251102T060000
END:STANDARD
BEGIN:DAYLIGHT
TZOFFSETFROM:-0500
TZOFFSETTO:-0400
TZNAME:EDT
DTSTART:20260308T070000
END:DAYLIGHT
BEGIN:STANDARD
TZOFFSETFROM:-0400
TZOFFSETTO:-0500
TZNAME:EST
DTSTART:20261101T060000
END:STANDARD
END:VTIMEZONE
BEGIN:VEVENT
DTSTART;TZID=America/Detroit:20251129T190000
DTEND;TZID=America/Detroit:20251129T230000
DTSTAMP:20260421T000152
CREATED:20251111T141106Z
LAST-MODIFIED:20251111T141748Z
UID:1913-1764442800-1764457200@bitdlive.com
SUMMARY:Private Wedding at Chicane at 885 Starkweather Street in Plymouth\, Michigan
DESCRIPTION:💍 Larry Lee & Back in the Day Performing at an Exclusive Private Wedding\nWe’re thrilled to announce that Larry Lee & Back in the Day will be performing at an exclusive private wedding celebration at Chicane\, located at 885 Starkweather Street in Plymouth\, Michigan. \nChicane is an upscale restaurant and elegant event venue known for its sophisticated atmosphere\, exceptional cuisine\, and stunning ambiance — the perfect setting for a night filled with love\, laughter\, and unforgettable music. \nLarry Lee & Back in the Day will bring their signature Motown soul\, high-energy performance\, and timeless hits to make this special occasion truly magical. From classic R&B favorites to dance-floor anthems\, the band knows how to keep every guest moving and create memories that last a lifetime. \n🎶 For private bookings and event performances\, please contact:📧 larryleeband@gmail.com
URL:https://bitdlive.com/event/private-wedding-at-chicane-at-885-starkweather-street-in-plymouth-michigan/
LOCATION:Chicane Plymouth\, 885 Starkweather Street in Plymouth\, Michigan\, MI\, 48170\, United States
CATEGORIES:Private Music Event
ATTACH;FMTTYPE=image/jpeg:https://bitdlive.com/wp-content/uploads/2025/11/Chicane-at-885-Starkweather-Street-in-Plymouth-Michigan.jpg
END:VEVENT
END:VCALENDAR