BEGIN:VCALENDAR
VERSION:2.0
PRODID:-//Larry Lee - ECPv6.15.13.1//NONSGML v1.0//EN
CALSCALE:GREGORIAN
METHOD:PUBLISH
X-WR-CALNAME:Larry Lee
X-ORIGINAL-URL:https://bitdlive.com
X-WR-CALDESC:Events for Larry Lee
REFRESH-INTERVAL;VALUE=DURATION:PT1H
X-Robots-Tag:noindex
X-PUBLISHED-TTL:PT1H
BEGIN:VTIMEZONE
TZID:America/Detroit
BEGIN:DAYLIGHT
TZOFFSETFROM:-0500
TZOFFSETTO:-0400
TZNAME:EDT
DTSTART:20240310T070000
END:DAYLIGHT
BEGIN:STANDARD
TZOFFSETFROM:-0400
TZOFFSETTO:-0500
TZNAME:EST
DTSTART:20241103T060000
END:STANDARD
BEGIN:DAYLIGHT
TZOFFSETFROM:-0500
TZOFFSETTO:-0400
TZNAME:EDT
DTSTART:20250309T070000
END:DAYLIGHT
BEGIN:STANDARD
TZOFFSETFROM:-0400
TZOFFSETTO:-0500
TZNAME:EST
DTSTART:20251102T060000
END:STANDARD
BEGIN:DAYLIGHT
TZOFFSETFROM:-0500
TZOFFSETTO:-0400
TZNAME:EDT
DTSTART:20260308T070000
END:DAYLIGHT
BEGIN:STANDARD
TZOFFSETFROM:-0400
TZOFFSETTO:-0500
TZNAME:EST
DTSTART:20261101T060000
END:STANDARD
END:VTIMEZONE
BEGIN:VEVENT
DTSTART;TZID=America/Detroit:20251024T190000
DTEND;TZID=America/Detroit:20251024T230000
DTSTAMP:20260421T014649
CREATED:20251016T192115Z
LAST-MODIFIED:20251020T181542Z
UID:1887-1761332400-1761346800@bitdlive.com
SUMMARY:🎨 A Pierian Tapestry of the Arts
DESCRIPTION:Presented by The Pierians\, Inc.October 24th\, 2025 | Detroit\, MichiganVenue: Hollywood Casino at Greektown\, 555 E. Lafayette\, Detroit\, MI 48226\nA Celebration of Art\, Culture\, and Creativity\nThe Pierians\, Inc. warmly invites you to A Pierian Tapestry of the Arts\, a national gathering that honors the transformative power of artistic expression. Set against the vibrant backdrop of Detroit\, Michigan\, this four-day experience will weave together music\, visual arts\, dance\, literature\, and cultural heritage—creating a living tapestry that celebrates the brilliance of African American artistry and community. \nEvent Highlights\n✨ Inspiring Keynote SpeakersHear from artists\, educators\, and cultural leaders who are shaping the future of the arts. \n🎶 Performances & ExhibitsEnjoy captivating performances\, curated art showcases\, and creative installations that celebrate the many threads of our cultural legacy. \n🎭 Workshops & PanelsEngage in hands-on workshops and thought-provoking discussions designed to educate\, inspire\, and connect. \n💃🏽 Evening CelebrationsExperience the rhythm of Detroit through social events\, live music\, and unforgettable gatherings with fellow art lovers. \nAbout The Pierians\, Inc.\nFounded on a shared love for the arts\, The Pierians\, Inc. is a national organization dedicated to supporting and promoting the arts within our communities. Through cultural programs\, scholarships\, and service initiatives\, The Pierians continue to nurture creativity and uplift future generations of artists.
URL:https://bitdlive.com/event/%f0%9f%8e%a8-a-pierian-tapestry-of-the-arts/
LOCATION:Hollywood Casino at Greektown\, 555 E. Lafayette\, Detroit\, MI 48226\, Hollywood Casino at Greektown\, 555 E. Lafayette\, Detroit\, MI 48226\, Detroit\, MI\, 48226\, United States
CATEGORIES:Live Music Show,Private Music Event
END:VEVENT
END:VCALENDAR