BEGIN:VCALENDAR
VERSION:2.0
PRODID:-//Larry Lee - ECPv6.15.13.1//NONSGML v1.0//EN
CALSCALE:GREGORIAN
METHOD:PUBLISH
X-ORIGINAL-URL:https://bitdlive.com
X-WR-CALDESC:Events for Larry Lee
REFRESH-INTERVAL;VALUE=DURATION:PT1H
X-Robots-Tag:noindex
X-PUBLISHED-TTL:PT1H
BEGIN:VTIMEZONE
TZID:America/Detroit
BEGIN:DAYLIGHT
TZOFFSETFROM:-0500
TZOFFSETTO:-0400
TZNAME:EDT
DTSTART:20240310T070000
END:DAYLIGHT
BEGIN:STANDARD
TZOFFSETFROM:-0400
TZOFFSETTO:-0500
TZNAME:EST
DTSTART:20241103T060000
END:STANDARD
BEGIN:DAYLIGHT
TZOFFSETFROM:-0500
TZOFFSETTO:-0400
TZNAME:EDT
DTSTART:20250309T070000
END:DAYLIGHT
BEGIN:STANDARD
TZOFFSETFROM:-0400
TZOFFSETTO:-0500
TZNAME:EST
DTSTART:20251102T060000
END:STANDARD
BEGIN:DAYLIGHT
TZOFFSETFROM:-0500
TZOFFSETTO:-0400
TZNAME:EDT
DTSTART:20260308T070000
END:DAYLIGHT
BEGIN:STANDARD
TZOFFSETFROM:-0400
TZOFFSETTO:-0500
TZNAME:EST
DTSTART:20261101T060000
END:STANDARD
END:VTIMEZONE
BEGIN:VTIMEZONE
TZID:America/New_York
BEGIN:DAYLIGHT
TZOFFSETFROM:-0500
TZOFFSETTO:-0400
TZNAME:EDT
DTSTART:20240310T070000
END:DAYLIGHT
BEGIN:STANDARD
TZOFFSETFROM:-0400
TZOFFSETTO:-0500
TZNAME:EST
DTSTART:20241103T060000
END:STANDARD
BEGIN:DAYLIGHT
TZOFFSETFROM:-0500
TZOFFSETTO:-0400
TZNAME:EDT
DTSTART:20250309T070000
END:DAYLIGHT
BEGIN:STANDARD
TZOFFSETFROM:-0400
TZOFFSETTO:-0500
TZNAME:EST
DTSTART:20251102T060000
END:STANDARD
BEGIN:DAYLIGHT
TZOFFSETFROM:-0500
TZOFFSETTO:-0400
TZNAME:EDT
DTSTART:20260308T070000
END:DAYLIGHT
BEGIN:STANDARD
TZOFFSETFROM:-0400
TZOFFSETTO:-0500
TZNAME:EST
DTSTART:20261101T060000
END:STANDARD
END:VTIMEZONE
BEGIN:VEVENT
DTSTART;TZID=America/Detroit:20251017T180000
DTEND;TZID=America/Detroit:20251017T210000
DTSTAMP:20260421T000119
CREATED:20251009T221808Z
LAST-MODIFIED:20251009T223214Z
UID:1862-1760724000-1760734800@bitdlive.com
SUMMARY:NSO 70th Anniversary Motown Inspired Gala | Detroit\, MI
DESCRIPTION:Join us for an unforgettable evening as the Neighborhood Service Organization (NSO) celebrates 70 years of service and impact across Detroit!\nExperience the magic of a Motown-inspired gala filled with elegance\, energy\, and entertainment — featuring a special live performance by Larry Lee & Back In The Day Band\, Detroit’s premier R&B and soul group known for bringing timeless hits to life. The evening will include a cocktail reception\, dinner\, live music\, and an Artist Market showcasing Detroit’s vibrant creative community. Come dressed in your best 70’s-themed attire and dance the night away as we honor seven decades of “Heart Work” — transforming lives and strengthening communities across Metro Detroit.\n🎟 Ticket InformationVIP Ticket – $250• Cocktail Reception: 6:00 PM• Dinner: 7:30 PM• Exclusive pre-event entertainment\nGeneral Admission – $175• Dinner: 7:30 PM\n📅 Event DetailsDate: Friday\, October 17\, 2025Location: MotorCity Casino Ballroom\, 2901 Grand River Ave\, Detroit\, MI\n💛 About NSOFor 70 years\, the Neighborhood Service Organization (NSO) has fostered hope\, provided support\, and created opportunities for individuals and families throughout Metro Detroit. From housing and mental health initiatives to community empowerment programs\, NSO continues to lead with compassion\, innovation\, and heart.\n✨ Be Part of the Celebration!To purchase tickets or become a sponsor\, please visit:👉 tinyurl.com/NSOGALAor scan the QR code on the event flyer.\nJoin us for a night of music\, memories\, and meaningful impact\, as we celebrate 70 years of NSO’s Heart Work — and dance to the soulful sounds of Larry Lee & Back In The Day Band!
URL:https://bitdlive.com/event/nso-70th-anniversary-motown/
LOCATION:MotorCity Casino Ballroom | Detroit\, MI\, 2901 Grand River Ave\, Detroit\, MI\, 48201\, United States
CATEGORIES:Private Music Event
ATTACH;FMTTYPE=image/jpeg:https://bitdlive.com/wp-content/uploads/2025/10/Gala-FlyerMoss-Band.jpg
END:VEVENT
BEGIN:VEVENT
DTSTART;TZID=America/Detroit:20251024T190000
DTEND;TZID=America/Detroit:20251024T230000
DTSTAMP:20260421T000120
CREATED:20251016T192115Z
LAST-MODIFIED:20251020T181542Z
UID:1887-1761332400-1761346800@bitdlive.com
SUMMARY:🎨 A Pierian Tapestry of the Arts
DESCRIPTION:Presented by The Pierians\, Inc.October 24th\, 2025 | Detroit\, MichiganVenue: Hollywood Casino at Greektown\, 555 E. Lafayette\, Detroit\, MI 48226\nA Celebration of Art\, Culture\, and Creativity\nThe Pierians\, Inc. warmly invites you to A Pierian Tapestry of the Arts\, a national gathering that honors the transformative power of artistic expression. Set against the vibrant backdrop of Detroit\, Michigan\, this four-day experience will weave together music\, visual arts\, dance\, literature\, and cultural heritage—creating a living tapestry that celebrates the brilliance of African American artistry and community. \nEvent Highlights\n✨ Inspiring Keynote SpeakersHear from artists\, educators\, and cultural leaders who are shaping the future of the arts. \n🎶 Performances & ExhibitsEnjoy captivating performances\, curated art showcases\, and creative installations that celebrate the many threads of our cultural legacy. \n🎭 Workshops & PanelsEngage in hands-on workshops and thought-provoking discussions designed to educate\, inspire\, and connect. \n💃🏽 Evening CelebrationsExperience the rhythm of Detroit through social events\, live music\, and unforgettable gatherings with fellow art lovers. \nAbout The Pierians\, Inc.\nFounded on a shared love for the arts\, The Pierians\, Inc. is a national organization dedicated to supporting and promoting the arts within our communities. Through cultural programs\, scholarships\, and service initiatives\, The Pierians continue to nurture creativity and uplift future generations of artists.
URL:https://bitdlive.com/event/%f0%9f%8e%a8-a-pierian-tapestry-of-the-arts/
LOCATION:Hollywood Casino at Greektown\, 555 E. Lafayette\, Detroit\, MI 48226\, Hollywood Casino at Greektown\, 555 E. Lafayette\, Detroit\, MI 48226\, Detroit\, MI\, 48226\, United States
CATEGORIES:Live Music Show,Private Music Event
END:VEVENT
BEGIN:VEVENT
DTSTART;TZID=America/New_York:20251025T080000
DTEND;TZID=America/New_York:20251025T170000
DTSTAMP:20260421T000120
CREATED:20250925T125122Z
LAST-MODIFIED:20251001T102724Z
UID:1823-1761379200-1761411600@bitdlive.com
SUMMARY:Annual Private Halloween Party – Ann Arbor\, MI 🎃👻
DESCRIPTION:For the past five years\, Larry Lee & Back In The Day Band have been the highlight of an exclusive Halloween tradition in Ann Arbor\, Michigan. This annual private event brings together friends\, family\, and invited guests for a night of music\, dancing\, and spooky fun. \nKnown for its lively atmosphere\, creative costumes\, and unforgettable entertainment\, the party has become a much-anticipated celebration each Halloween season. Larry Lee & Back In The Day Band are proud to return once again\, delivering the high-energy performance that keeps the dance floor packed year after year.
URL:https://bitdlive.com/event/annual-private-halloween-party-ann-arbor-mi-%f0%9f%8e%83%f0%9f%91%bb/
CATEGORIES:Private Music Event
END:VEVENT
END:VCALENDAR