BEGIN:VCALENDAR
VERSION:2.0
PRODID:-//Larry Lee - ECPv6.15.13.1//NONSGML v1.0//EN
CALSCALE:GREGORIAN
METHOD:PUBLISH
X-WR-CALNAME:Larry Lee
X-ORIGINAL-URL:https://bitdlive.com
X-WR-CALDESC:Events for Larry Lee
REFRESH-INTERVAL;VALUE=DURATION:PT1H
X-Robots-Tag:noindex
X-PUBLISHED-TTL:PT1H
BEGIN:VTIMEZONE
TZID:UTC
BEGIN:STANDARD
TZOFFSETFROM:+0000
TZOFFSETTO:+0000
TZNAME:UTC
DTSTART:20240101T000000
END:STANDARD
END:VTIMEZONE
BEGIN:VEVENT
DTSTART;TZID=UTC:20250618T060000
DTEND;TZID=UTC:20250618T170000
DTSTAMP:20260420T161919
CREATED:20250623T144805Z
LAST-MODIFIED:20250702T172035Z
UID:1333-1750226400-1750266000@bitdlive.com
SUMMARY:Grand Testimonial Kick-Off
DESCRIPTION:Auburn Hills Marriott Doors open at 6pm contact Kendra Perry @3132155087
URL:https://bitdlive.com/event/grand-testimonial-kick-off/
CATEGORIES:band
ATTACH;FMTTYPE=image/jpeg:https://bitdlive.com/wp-content/uploads/2025/06/unnamed.jpg
END:VEVENT
END:VCALENDAR