BEGIN:VCALENDAR
VERSION:2.0
PRODID:-//Larry Lee - ECPv6.15.13.1//NONSGML v1.0//EN
CALSCALE:GREGORIAN
METHOD:PUBLISH
X-WR-CALNAME:Larry Lee
X-ORIGINAL-URL:https://bitdlive.com
X-WR-CALDESC:Events for Larry Lee
REFRESH-INTERVAL;VALUE=DURATION:PT1H
X-Robots-Tag:noindex
X-PUBLISHED-TTL:PT1H
BEGIN:VTIMEZONE
TZID:UTC
BEGIN:STANDARD
TZOFFSETFROM:+0000
TZOFFSETTO:+0000
TZNAME:UTC
DTSTART:20240101T000000
END:STANDARD
END:VTIMEZONE
BEGIN:VEVENT
DTSTART;TZID=UTC:20250616T200000
DTEND;TZID=UTC:20250616T220000
DTSTAMP:20260420T164627
CREATED:20250622T184228Z
LAST-MODIFIED:20250702T172145Z
UID:1282-1750104000-1750111200@bitdlive.com
SUMMARY:Land and Sea RV Weekend
DESCRIPTION:Cardinal Center Morengo\, Ohio 43334 8-10pm
URL:https://bitdlive.com/event/land-and-sea-rv-weekend/
CATEGORIES:band
END:VEVENT
END:VCALENDAR